BEGIN:VCALENDAR
VERSION:2.0
PRODID:-//Harbour - ECPv6.15.20//NONSGML v1.0//EN
CALSCALE:GREGORIAN
METHOD:PUBLISH
X-WR-CALNAME:Harbour
X-ORIGINAL-URL:https://harbourmusic.pt
X-WR-CALDESC:Events for Harbour
REFRESH-INTERVAL;VALUE=DURATION:PT1H
X-Robots-Tag:noindex
X-PUBLISHED-TTL:PT1H
BEGIN:VTIMEZONE
TZID:Europe/Lisbon
BEGIN:DAYLIGHT
TZOFFSETFROM:+0000
TZOFFSETTO:+0100
TZNAME:WEST
DTSTART:20250330T010000
END:DAYLIGHT
BEGIN:STANDARD
TZOFFSETFROM:+0100
TZOFFSETTO:+0000
TZNAME:WET
DTSTART:20251026T010000
END:STANDARD
BEGIN:DAYLIGHT
TZOFFSETFROM:+0000
TZOFFSETTO:+0100
TZNAME:WEST
DTSTART:20260329T010000
END:DAYLIGHT
BEGIN:STANDARD
TZOFFSETFROM:+0100
TZOFFSETTO:+0000
TZNAME:WET
DTSTART:20261025T010000
END:STANDARD
BEGIN:DAYLIGHT
TZOFFSETFROM:+0000
TZOFFSETTO:+0100
TZNAME:WEST
DTSTART:20270328T010000
END:DAYLIGHT
BEGIN:STANDARD
TZOFFSETFROM:+0100
TZOFFSETTO:+0000
TZNAME:WET
DTSTART:20271031T010000
END:STANDARD
END:VTIMEZONE
BEGIN:VEVENT
DTSTART;TZID=Europe/Lisbon:20260201T050000
DTEND;TZID=Europe/Lisbon:20260201T110000
DTSTAMP:20260422T070223
CREATED:20260112T172930Z
LAST-MODIFIED:20260123T030243Z
UID:37222-1769922000-1769943600@harbourmusic.pt
SUMMARY:Breakfast will be served by LILE  + TIAGO FRAGATEIRO
DESCRIPTION:https://harbourmusic.pt/wp-content/uploads/2026/01/HB_Line-up_Diario_Reel_Dia01_compressed.mp4
URL:https://harbourmusic.pt/event/breakfast-will-be-served-by-lile-tiago-fragateiro/
CATEGORIES:Showcase
ATTACH;FMTTYPE=image/webp:https://harbourmusic.pt/wp-content/uploads/2026/01/HB_Line-up_Diario_Post_Dia01.webp
END:VEVENT
BEGIN:VEVENT
DTSTART;TZID=Europe/Lisbon:20260201T235900
DTEND;TZID=Europe/Lisbon:20260201T235900
DTSTAMP:20260422T070223
CREATED:20260112T172932Z
LAST-MODIFIED:20260116T232619Z
UID:37223-1769990340-1769990340@harbourmusic.pt
SUMMARY:Sundaze will be hosted by BERLLIOZ + ZE SALVADOR
DESCRIPTION:https://harbourmusic.pt/wp-content/uploads/2026/01/HBSundaze_Mensal_Janeiro_26_compressed.mp4
URL:https://harbourmusic.pt/event/sundaze-will-be-hosted-by-berllioz-ze-salvador/
CATEGORIES:Sundaze
ATTACH;FMTTYPE=image/webp:https://harbourmusic.pt/wp-content/uploads/2026/01/HBSundaze_Mensal_Janeiro_26_Post.webp
END:VEVENT
BEGIN:VEVENT
DTSTART;TZID=Europe/Lisbon:20260207T050000
DTEND;TZID=Europe/Lisbon:20260207T110000
DTSTAMP:20260422T070223
CREATED:20260203T201241Z
LAST-MODIFIED:20260203T204918Z
UID:37421-1770440400-1770462000@harbourmusic.pt
SUMMARY:Breakfast will be served by ETHAN KOOP + TM
DESCRIPTION:https://harbourmusic.pt/wp-content/uploads/2026/02/HB_Line-up_Diario_Reel_Dia07_compressed.mp4
URL:https://harbourmusic.pt/event/breakfast-will-be-served-by-ethan-koop-tm/
CATEGORIES:Music Shelter
ATTACH;FMTTYPE=image/webp:https://harbourmusic.pt/wp-content/uploads/2026/02/HB_Line-up_Diario_Post_Dia07.webp
END:VEVENT
BEGIN:VEVENT
DTSTART;TZID=Europe/Lisbon:20260208T050000
DTEND;TZID=Europe/Lisbon:20260208T110000
DTSTAMP:20260422T070223
CREATED:20260203T201242Z
LAST-MODIFIED:20260203T210440Z
UID:37422-1770526800-1770548400@harbourmusic.pt
SUMMARY:Showcase breakfast with LA GUGGA  + SY
DESCRIPTION:https://harbourmusic.pt/wp-content/uploads/2026/02/HB_Line-up_Diario_Reel_Dia8_compressed.mp4
URL:https://harbourmusic.pt/event/showcase-breakfast-with-la-gugga-sy/
CATEGORIES:Showcase
ATTACH;FMTTYPE=image/webp:https://harbourmusic.pt/wp-content/uploads/2026/02/HB_Line-up_Diario_Post_Dia8.webp
END:VEVENT
BEGIN:VEVENT
DTSTART;TZID=Europe/Lisbon:20260208T235900
DTEND;TZID=Europe/Lisbon:20260208T235900
DTSTAMP:20260422T070223
CREATED:20260203T201244Z
LAST-MODIFIED:20260204T235822Z
UID:37423-1770595140-1770595140@harbourmusic.pt
SUMMARY:Sundaze will be hosted by ERNESTO + BERNARDO VAZ
DESCRIPTION:
URL:https://harbourmusic.pt/event/sundaze-will-be-hosted-by-ernesto-bernardo-vaz/
CATEGORIES:Sundaze
ATTACH;FMTTYPE=image/webp:https://harbourmusic.pt/wp-content/uploads/2026/02/1__ArtistBannersSundaze_FEV_DIA08_16x9.webp
END:VEVENT
BEGIN:VEVENT
DTSTART;TZID=Europe/Lisbon:20260214T050000
DTEND;TZID=Europe/Lisbon:20260214T110000
DTSTAMP:20260422T070223
CREATED:20260203T201245Z
LAST-MODIFIED:20260205T000351Z
UID:37424-1771045200-1771066800@harbourmusic.pt
SUMMARY:Breakfast will be served by ALEX VINENT + CHARLES LAZER
DESCRIPTION:https://harbourmusic.pt/wp-content/uploads/2026/02/HB_Line-up_Diario_Reel_Dia14_compressed.mp4
URL:https://harbourmusic.pt/event/breakfast-will-be-served-by-alex-vinent-charles-lazer/
CATEGORIES:Music Shelter
ATTACH;FMTTYPE=image/webp:https://harbourmusic.pt/wp-content/uploads/2026/02/HB_Line-up_Diario_Post_Dia14.webp
END:VEVENT
BEGIN:VEVENT
DTSTART;TZID=Europe/Lisbon:20260215T050000
DTEND;TZID=Europe/Lisbon:20260215T110000
DTSTAMP:20260422T070223
CREATED:20260203T201247Z
LAST-MODIFIED:20260205T000438Z
UID:37425-1771131600-1771153200@harbourmusic.pt
SUMMARY:Breakfast will be served by NUNO CARNEIRO B2B TRAVIS + DA NI B2B TEST13
DESCRIPTION:https://harbourmusic.pt/wp-content/uploads/2026/02/HB_Line-up_Diario_Reel_Dia15_compressed.mp4
URL:https://harbourmusic.pt/event/breakfast-will-be-served-by-nuno-carneiro-b2b-travis-da-ni-b2b-test13/
CATEGORIES:Music Shelter
ATTACH;FMTTYPE=image/webp:https://harbourmusic.pt/wp-content/uploads/2026/02/HB_Line-up_Diario_Post_Dia15.webp
END:VEVENT
BEGIN:VEVENT
DTSTART;TZID=Europe/Lisbon:20260215T235900
DTEND;TZID=Europe/Lisbon:20260215T235900
DTSTAMP:20260422T070223
CREATED:20260203T201255Z
LAST-MODIFIED:20260203T211921Z
UID:37426-1771199940-1771199940@harbourmusic.pt
SUMMARY:Sundaze will be hosted by DARKATEK + JOHN-E
DESCRIPTION:https://harbourmusic.pt/wp-content/uploads/2026/02/HBSundaze_Mensal_Fevereiro_26_compressed.mp4
URL:https://harbourmusic.pt/event/sundaze-will-be-hosted-by-darkatek-john-e/
CATEGORIES:Sundaze
ATTACH;FMTTYPE=image/webp:https://harbourmusic.pt/wp-content/uploads/2026/02/HBSundaze_Mensal_Fevereiro_26_Post.webp
END:VEVENT
BEGIN:VEVENT
DTSTART;TZID=Europe/Lisbon:20260217T050000
DTEND;TZID=Europe/Lisbon:20260217T110000
DTSTAMP:20260422T070223
CREATED:20260203T201256Z
LAST-MODIFIED:20260205T000850Z
UID:37427-1771304400-1771326000@harbourmusic.pt
SUMMARY:Breakfast will be served by TIAGO CARVALHO + GEAR
DESCRIPTION:https://harbourmusic.pt/wp-content/uploads/2026/02/HB_Line-up_Diario_Reel_Dia17_compressed.mp4
URL:https://harbourmusic.pt/event/breakfast-will-be-served-by-tiago-carvalho-gear/
CATEGORIES:Music Shelter
ATTACH;FMTTYPE=image/webp:https://harbourmusic.pt/wp-content/uploads/2026/02/HB_Line-up_Diario_Post_Dia17-1.webp
END:VEVENT
BEGIN:VEVENT
DTSTART;TZID=Europe/Lisbon:20260221T050000
DTEND;TZID=Europe/Lisbon:20260221T110000
DTSTAMP:20260422T070223
CREATED:20260203T201257Z
LAST-MODIFIED:20260205T000916Z
UID:37428-1771650000-1771671600@harbourmusic.pt
SUMMARY:Breakfast will be served by MILTON SOARES B2B ZIKO + SYPER
DESCRIPTION:https://harbourmusic.pt/wp-content/uploads/2026/02/HB_Line-up_Diario_Reel_Dia21_compressed.mp4
URL:https://harbourmusic.pt/event/breakfast-will-be-served-by-milton-soares-b2b-ziko-syper/
CATEGORIES:Music Shelter
ATTACH;FMTTYPE=image/webp:https://harbourmusic.pt/wp-content/uploads/2026/02/HB_Line-up_Diario_Post_Dia21.webp
END:VEVENT
BEGIN:VEVENT
DTSTART;TZID=Europe/Lisbon:20260222T050000
DTEND;TZID=Europe/Lisbon:20260222T110000
DTSTAMP:20260422T070223
CREATED:20260203T201259Z
LAST-MODIFIED:20260205T001020Z
UID:37430-1771736400-1771758000@harbourmusic.pt
SUMMARY:Breakfast will be served by JORGE CAIADO + KAESAR
DESCRIPTION:https://harbourmusic.pt/wp-content/uploads/2026/02/HB_Line-up_Diario_Reel_Dia22_compressed.mp4
URL:https://harbourmusic.pt/event/breakfast-will-be-served-by-jorge-caiado-kaesar/
CATEGORIES:Music Shelter
ATTACH;FMTTYPE=image/webp:https://harbourmusic.pt/wp-content/uploads/2026/02/HB_Line-up_Diario_Post_Dia22.webp
END:VEVENT
BEGIN:VEVENT
DTSTART;TZID=Europe/Lisbon:20260222T235900
DTEND;TZID=Europe/Lisbon:20260222T235900
DTSTAMP:20260422T070223
CREATED:20260203T201300Z
LAST-MODIFIED:20260203T211941Z
UID:37432-1771804740-1771804740@harbourmusic.pt
SUMMARY:Sundaze will be hosted by OZMIN + GUIGAS
DESCRIPTION:https://harbourmusic.pt/wp-content/uploads/2026/02/HBSundaze_Mensal_Fevereiro_26_compressed.mp4
URL:https://harbourmusic.pt/event/sundaze-will-be-hosted-by-ozmin-guigas/
CATEGORIES:Sundaze
ATTACH;FMTTYPE=image/webp:https://harbourmusic.pt/wp-content/uploads/2026/02/HBSundaze_Mensal_Fevereiro_26_Post.webp
END:VEVENT
BEGIN:VEVENT
DTSTART;TZID=Europe/Lisbon:20260228T050000
DTEND;TZID=Europe/Lisbon:20260228T110000
DTSTAMP:20260422T070223
CREATED:20260203T201308Z
LAST-MODIFIED:20260205T001045Z
UID:37436-1772254800-1772276400@harbourmusic.pt
SUMMARY:Showcase breakfast with NEAPO + BERBERAN
DESCRIPTION:https://harbourmusic.pt/wp-content/uploads/2026/02/HB_Line-up_Diario_Reel_Dia28_compressed.mp4
URL:https://harbourmusic.pt/event/showcase-breakfast-with-neapo-berberan/
CATEGORIES:Showcase
ATTACH;FMTTYPE=image/webp:https://harbourmusic.pt/wp-content/uploads/2026/02/HB_Line-up_Diario_Post_Dia28.webp
END:VEVENT
END:VCALENDAR